BEGIN:VCALENDAR
VERSION:2.0
CALSCALE:GREGORIAN
PRODID:MDA iCal Generator
BEGIN:VTIMEZONE
TZID:Asia/Singapore
BEGIN:STANDARD
TZOFFSETFROM:+0800
DTSTART:19890917T000000
TZNAME:GMT+8
TZOFFSETTO:+0800
END:STANDARD
END:VTIMEZONE
BEGIN:VEVENT
UID:119d55c3189578becae017ed801260f4
SUMMARY:CIOSH Thailand 2027
DESCRIPTION:
LOCATION:BITEC BANGKOK
URL;VALUE=URI:https:ciosh-thailand.com
DTSTART;TZID=Asia/Singapore:20270908T100000
DTEND;TZID=Asia/Singapore:20270910T170000
DTSTAMP:20260420T162753
END:VEVENT
END:VCALENDAR